BEGIN:VCALENDAR
VERSION:2.0
PRODID:-//ChamberMaster//Event Calendar 2.0//EN
METHOD:PUBLISH
X-PUBLISHED-TTL:P3D
REFRESH-INTERVAL:P3D
CALSCALE:GREGORIAN
BEGIN:VEVENT
DTSTART:20260427T213000Z
DTEND:20260427T233000Z
X-MICROSOFT-CDO-ALLDAYEVENT:FALSE
SUMMARY:Candidates Forum
DESCRIPTION:The Chamber's Community & Government Affairs Committee will host a "Meet Your Candidates" forum on Monday\, April 27 at the Gordon County Agricultural Services Center. It will begin with a 5:30pm Meet & Greet.  The forum will begin at 6:00pm. The event is free\, but registration is requested.
X-ALT-DESC;FMTTYPE=text/html:The Chamber&#39\;s Community &amp\; Government Affairs Committee will host a &quot\;Meet Your Candidates&quot\; forum on Monday\, April 27 at the Gordon County Agricultural Services Center. It will begin with a 5:30pm Meet &amp\; Greet.&nbsp\; The forum will begin at 6:00pm. The event is free\, but registration is requested.&nbsp\;
LOCATION:
UID:e.2997.3912
SEQUENCE:3
DTSTAMP:20260421T005202Z
URL:https://www.gordoncountychamber.com/events/details/candidates-forum-3912
END:VEVENT

END:VCALENDAR
