BEGIN:VCALENDAR
VERSION:2.0
PRODID:-//ChamberMaster//Event Calendar 2.0//EN
METHOD:PUBLISH
X-PUBLISHED-TTL:P3D
REFRESH-INTERVAL:P3D
CALSCALE:GREGORIAN
BEGIN:VEVENT
DTSTART:20260120T163000Z
DTEND:20260120T180000Z
X-MICROSOFT-CDO-ALLDAYEVENT:FALSE
SUMMARY:Young Professionals Lunch with a Leader
DESCRIPTION:The Young Professionals Committee will present Lunch with a Leader on Tuesday\, January 20\, 2026 from 11:30am-1:00pm at the Chamber.  Dr. Kofi Smith will be the keynote speaker. Dr. Smith launched his own company\, Keystone Management\, LLC in 2020 and was acknowledged as Entrepreneur of the Year by the Georgia Tech Black Alumni Organization in 2025. He teaches two courses at the Georgia Institute of Technology\, where he teaches two courses: Leadership and Communication in Building Construction and Entrepreneurship in Construction.  Additionally\, for three years\, Dr. Smith also taught Leadership and Culture in the Professional Masters Occupational Safety and Health Program.
X-ALT-DESC;FMTTYPE=text/html:The Young Professionals Committee will present Lunch with a Leader on Tuesday\, January 20\, 2026 from 11:30am-1:00pm at the Chamber.&nbsp\; Dr. Kofi Smith will be the keynote speaker. Dr. Smith launched his own company\, Keystone Management\, LLC in 2020 and was acknowledged as Entrepreneur of the Year by the Georgia Tech Black Alumni Organization in 2025. He teaches two courses at the Georgia Institute of Technology\, where he teaches two courses: Leadership and Communication in Building Construction and Entrepreneurship in Construction.&nbsp\; Additionally\, for three years\, Dr. Smith also taught Leadership and Culture in the Professional Masters Occupational Safety and Health Program.
LOCATION:
UID:e.2997.3855
SEQUENCE:3
DTSTAMP:20260425T163405Z
URL:https://www.gordoncountychamber.com/events/details/young-professionals-lunch-with-a-leader-3855
END:VEVENT

END:VCALENDAR
